BEGIN:VCALENDAR
VERSION:2.0
PRODID:-//St Louis Irish Events - ECPv6.15.20//NONSGML v1.0//EN
CALSCALE:GREGORIAN
METHOD:PUBLISH
X-WR-CALNAME:St Louis Irish Events
X-ORIGINAL-URL:https://irishstl.com
X-WR-CALDESC:Events for St Louis Irish Events
REFRESH-INTERVAL;VALUE=DURATION:PT1H
X-Robots-Tag:noindex
X-PUBLISHED-TTL:PT1H
BEGIN:VTIMEZONE
TZID:UTC
BEGIN:STANDARD
TZOFFSETFROM:+0000
TZOFFSETTO:+0000
TZNAME:UTC
DTSTART:20210101T000000
END:STANDARD
END:VTIMEZONE
BEGIN:VEVENT
DTSTART;TZID=UTC:20220909T193000
DTEND;TZID=UTC:20220909T213000
DTSTAMP:20260424T004237
CREATED:20220901T192257Z
LAST-MODIFIED:20220901T192257Z
UID:32-1662751800-1662759000@irishstl.com
SUMMARY:Division 1 Meeting
DESCRIPTION:
URL:https://irishstl.com/event/division-1-meeting/
LOCATION:St James the Greater
END:VEVENT
BEGIN:VEVENT
DTSTART;TZID=UTC:20220909T190000
DTEND;TZID=UTC:20220909T210000
DTSTAMP:20260424T004237
CREATED:20220902T181043Z
LAST-MODIFIED:20220902T181043Z
UID:72-1662750000-1662757200@irishstl.com
SUMMARY:Division II Meeting
DESCRIPTION:
URL:https://irishstl.com/event/division-ii-meeting/
LOCATION:Irish Corner Pub
END:VEVENT
END:VCALENDAR